BEGIN:VCALENDAR
VERSION:2.0
PRODID:-//Sailing for the Disabled - ECPv6.3.7//NONSGML v1.0//EN
CALSCALE:GREGORIAN
METHOD:PUBLISH
X-WR-CALNAME:Sailing for the Disabled
X-ORIGINAL-URL:https://sftd-iom.com
X-WR-CALDESC:Events for Sailing for the Disabled
REFRESH-INTERVAL;VALUE=DURATION:PT1H
X-Robots-Tag:noindex
X-PUBLISHED-TTL:PT1H
BEGIN:VTIMEZONE
TZID:Europe/London
BEGIN:DAYLIGHT
TZOFFSETFROM:+0000
TZOFFSETTO:+0100
TZNAME:BST
DTSTART:20260329T010000
END:DAYLIGHT
BEGIN:STANDARD
TZOFFSETFROM:+0100
TZOFFSETTO:+0000
TZNAME:GMT
DTSTART:20261025T010000
END:STANDARD
END:VTIMEZONE
BEGIN:VEVENT
DTSTART;TZID=Europe/London:20260420T080000
DTEND;TZID=Europe/London:20260424T170000
DTSTAMP:20260423T121735
CREATED:20260411T051132Z
LAST-MODIFIED:20260412T044646Z
UID:10000191-1776672000-1777050000@sftd-iom.com
SUMMARY:Vessel Coding Survey
DESCRIPTION:
URL:https://sftd-iom.com/sailing-trip/vessel-coding-survey/
END:VEVENT
BEGIN:VEVENT
DTSTART;TZID=Europe/London:20260430T094500
DTEND;TZID=Europe/London:20260430T131500
DTSTAMP:20260423T121735
CREATED:20260411T051547Z
LAST-MODIFIED:20260414T084108Z
UID:10000192-1777542300-1777554900@sftd-iom.com
SUMMARY:Short Sail
DESCRIPTION:
URL:https://sftd-iom.com/sailing-trip/short-sail-131/
END:VEVENT
BEGIN:VEVENT
DTSTART;TZID=Europe/London:20260514T094500
DTEND;TZID=Europe/London:20260514T114500
DTSTAMP:20260423T121735
CREATED:20260411T051847Z
LAST-MODIFIED:20260414T090406Z
UID:10000193-1778751900-1778759100@sftd-iom.com
SUMMARY:Short Sail
DESCRIPTION:
URL:https://sftd-iom.com/sailing-trip/short-sail-132/
END:VEVENT
END:VCALENDAR